BEGIN:VCALENDAR
VERSION:2.0
PRODID:-//ical.marudot.com//iCal Event Maker
CALSCALE:GREGORIAN
BEGIN:VTIMEZONE
TZID:Europe/Berlin
LAST-MODIFIED:20240422T053451Z
TZURL:https://www.tzurl.org/zoneinfo-outlook/Europe/Berlin
X-LIC-LOCATION:Europe/Berlin
BEGIN:DAYLIGHT
TZNAME:CEST
TZOFFSETFROM:+0100
TZOFFSETTO:+0200
DTSTART:19700329T020000
RRULE:FREQ=YEARLY;BYMONTH=3;BYDAY=-1SU
END:DAYLIGHT
BEGIN:STANDARD
TZNAME:CET
TZOFFSETFROM:+0200
TZOFFSETTO:+0100
DTSTART:19701025T030000
RRULE:FREQ=YEARLY;BYMONTH=10;BYDAY=-1SU
END:STANDARD
END:VTIMEZONE
BEGIN:VEVENT
DTSTAMP:20241111T082826Z
UID:1731313309128-84329@ical.marudot.com
DTSTART;TZID=Europe/Berlin:20250220T190000
DTEND;TZID=Europe/Berlin:20250220T220000
SUMMARY:Vollversammlung Freizeitwerk
LOCATION:Freizeitwerk des BDKJ Dekanat Karlsruhe e.V.\, Steinstra��e 31\, 76133 Karlsruhe
END:VEVENT
BEGIN:VEVENT
DTSTAMP:20241111T082826Z
UID:1731313387639-20744@ical.marudot.com
DTSTART;TZID=Europe/Berlin:20250321T170000
DTEND;TZID=Europe/Berlin:20250323T120000
SUMMARY:FZW-Arbeitseinsatz Schwarzwald
LOCATION:Freizeitwerkh��user\, Schwarzwald
END:VEVENT
BEGIN:VEVENT
DTSTAMP:20241111T082826Z
UID:1731313417134-54213@ical.marudot.com
DTSTART;TZID=Europe/Berlin:20250430T170000
DTEND;TZID=Europe/Berlin:20250504T120000
SUMMARY:FZW-Arbeitseinsatz Kaunerberg
LOCATION:Freizeitwerkh��user\, Kaunerberg
END:VEVENT
BEGIN:VEVENT
DTSTAMP:20241111T082826Z
UID:1731313450535-30399@ical.marudot.com
DTSTART;TZID=Europe/Berlin:20250926T170000
DTEND;TZID=Europe/Berlin:20250928T120000
SUMMARY:Arbeitseinsatz Schwarzwald
LOCATION:Freizeitwerkh��user Schwarzwald
END:VEVENT
BEGIN:VEVENT
DTSTAMP:20241111T082826Z
UID:1731313476294-35203@ical.marudot.com
DTSTART;TZID=Europe/Berlin:20251024T170000
DTEND;TZID=Europe/Berlin:20251102T120000
SUMMARY:FZW-Arbeitseinsatz Kaunerberg
LOCATION:Freizeitwerkh��user Kaunerberg
END:VEVENT
BEGIN:VEVENT
DTSTAMP:20241111T082826Z
UID:1731313517318-44099@ical.marudot.com
DTSTART;TZID=Europe/Berlin:20260320T170000
DTEND;TZID=Europe/Berlin:20260322T120000
SUMMARY:FZW-Arbeitseinsatz Schwarzwald
LOCATION:Freizeitwerkh��user Schwarzwald
END:VEVENT
BEGIN:VEVENT
DTSTAMP:20241111T082826Z
UID:1731313583847-80289@ical.marudot.com
DTSTART;TZID=Europe/Berlin:20260430T170000
DTEND;TZID=Europe/Berlin:20260503T120000
SUMMARY:FZW-Arbeitseinsatz Kaunerberg
LOCATION:Freizeitwerkh��user Kaunerberg
END:VEVENT
BEGIN:VEVENT
DTSTAMP:20241111T082826Z
UID:1731313557406-30358@ical.marudot.com
DTSTART;TZID=Europe/Berlin:20260925T170000
DTEND;TZID=Europe/Berlin:20260927T120000
SUMMARY:FZW-Arbeitseinsatz Schwarzwald
LOCATION:Freizeitwerkh��user Schwarzwald
END:VEVENT
BEGIN:VEVENT
DTSTAMP:20241111T082826Z
UID:1731313612494-77262@ical.marudot.com
DTSTART;TZID=Europe/Berlin:20261023T170000
DTEND;TZID=Europe/Berlin:20261101T120000
SUMMARY:FZW-Arbeitseinsatz Kaunerberg
LOCATION:Freizeitwerkh��user Kaunerberg
END:VEVENT
END:VCALENDAR