BEGIN:VCALENDAR
VERSION:2.0
PRODID:-//ical.marudot.com//iCal Event Maker
X-WR-CALNAME:Arbeitseinsätze 2024
NAME:Arbeitseinsätze 2024
CALSCALE:GREGORIAN
BEGIN:VTIMEZONE
TZID:Europe/Berlin
LAST-MODIFIED:20230407T050750Z
TZURL:https://www.tzurl.org/zoneinfo-outlook/Europe/Berlin
X-LIC-LOCATION:Europe/Berlin
BEGIN:DAYLIGHT
TZNAME:CEST
TZOFFSETFROM:+0100
TZOFFSETTO:+0200
DTSTART:19700329T020000
RRULE:FREQ=YEARLY;BYMONTH=3;BYDAY=-1SU
END:DAYLIGHT
BEGIN:STANDARD
TZNAME:CET
TZOFFSETFROM:+0200
TZOFFSETTO:+0100
DTSTART:19701025T030000
RRULE:FREQ=YEARLY;BYMONTH=10;BYDAY=-1SU
END:STANDARD
END:VTIMEZONE
BEGIN:VEVENT
DTSTAMP:20231212T124614Z
UID:1702385022673-30466@ical.marudot.com
DTSTART;VALUE=DATE:20240315
DTEND;VALUE=DATE:20240318
SUMMARY:FZW: Arbeitseinsatz Hundeseck
LOCATION:Hundseck 5\, 77815 Bühl
END:VEVENT
BEGIN:VEVENT
DTSTAMP:20231212T124614Z
UID:1702385059644-69938@ical.marudot.com
DTSTART;VALUE=DATE:20240426
DTEND;VALUE=DATE:20240502
SUMMARY:FZW: Arbeitseinsatz Kaunerberg
LOCATION:6527\, Österreich
END:VEVENT
BEGIN:VEVENT
DTSTAMP:20231212T124614Z
UID:1702385107675-64498@ical.marudot.com
DTSTART;VALUE=DATE:20241025
DTEND;VALUE=DATE:20241104
SUMMARY:FZW: Arbeitseinsatz Kaunerberg
LOCATION:6527\, Österreich
END:VEVENT
BEGIN:VEVENT
DTSTAMP:20231212T124614Z
UID:1702385087588-82998@ical.marudot.com
DTSTART;VALUE=DATE:20241129
DTEND;VALUE=DATE:20241202
SUMMARY:FZW: Arbeitseinsatz Nickersberg
LOCATION:Nickersbergweg 1\, 77815 Bühl (Baden)
END:VEVENT
END:VCALENDAR